BEGIN:VCALENDAR
PRODID:-//Google Inc//Google Calendar 70.9054//EN
VERSION:2.0
CALSCALE:GREGORIAN
METHOD:PUBLISH
X-WR-CALNAME:webmaster.robert.schroeter@gmail.com
X-WR-TIMEZONE:Europe/Berlin
BEGIN:VEVENT
DTSTART;VALUE=DATE:20221003
DTEND;VALUE=DATE:20221004
RRULE:FREQ=YEARLY
DTSTAMP:20211103T161122Z
UID:5adkhjkhgggf545h86vlrgp@google.com
CREATED:20211025T160216Z
DESCRIPTION:<strong>Heiße rothaarige Sunny-Sin</strong> liebt heiße Outfits
  in Lack und Leder\, Sie trägt gern Kleidung aus Leder\, aber auch der Reiz
  bei Latex Kleidung ist für Sie sehr hoch.&nbsp\;&nbsp\;<br>More Info: <a h
 ref="https://happybirthday-girl.com/kalender/oktober/sunny-sin/" id="ow722"
  __is_owner="true">https://happybirthday-girl.com/kalender/oktober/sunny-si
 n/</a><br><b>Beschenke dein Girl</b>: <a href="https://amzn.to/3GorkBo" i
 d="ow741" __is_owner="true">Amazon Wishlist</a>
LAST-MODIFIED:20211103T160738Z
LOCATION:www.happybirthday-girl.com
SEQUENCE:9
STATUS:CONFIRMED
SUMMARY:Sunny-Sin  Geburtstag 🎂
TRANSP:TRANSPARENT
BEGIN:VALARM
ACTION:DISPLAY
DESCRIPTION:This is an event reminder
TRIGGER:-P0DT15H0M0S
END:VALARM
END:VEVENT
END:VCALENDAR
