BEGIN:VCALENDAR
PRODID:-//Google Inc//Google Calendar 70.9054//EN
VERSION:2.0
CALSCALE:GREGORIAN
METHOD:PUBLISH
X-WR-CALNAME:webmaster@happybirthday-girl.com
X-WR-TIMEZONE:Europe/Berlin
BEGIN:VEVENT
DTSTART;VALUE=DATE:20221028
DTEND;VALUE=DATE:20221029
RRULE:FREQ=YEARLY
DTSTAMP:20211107T214343Z
UID:5adgxgfc6598516h86vlrgp@google.com
CREATED:20211025T160216Z
DESCRIPTION:JuliaJuice ist Bunt\, frech und Leidenschaftliches Hippie-Girl\
 , Sie liebt es Ihre <strong>Phantasien mit Männer</strong> und Frauen inten
 siv auszuleben.&nbsp\;&nbsp\;<br>More Info: <a href="https://happybirthday-
 girl.com/kalender/oktober/juliajuice/" id="ow334" __is_owner="true">https:/
 /happybirthday-girl.com/kalender/oktober/juliajuice/</a><br><b>Beschenke de
 in Girl&nbsp\; hier: </b><u><a href="https://amzn.to/3BXe0R0" id="ow359" __
 is_owner="true">Amazon Wishlist</a></u>
LAST-MODIFIED:20211107T214141Z
LOCATION:www.happybirthday-girl.com
SEQUENCE:16
STATUS:CONFIRMED
SUMMARY:JuliaJuice Geburtstag 🎂
TRANSP:TRANSPARENT
BEGIN:VALARM
ACTION:DISPLAY
DESCRIPTION:This is an event reminder
TRIGGER:-P0DT15H0M0S
END:VALARM
END:VEVENT
END:VCALENDAR
