BEGIN:VCALENDAR
PRODID:-//Google Inc//Google Calendar 70.9054//EN
VERSION:2.0
CALSCALE:GREGORIAN
METHOD:PUBLISH
X-WR-CALNAME:webmaster@happybirthday-girl.com
X-WR-TIMEZONE:Europe/Berlin
BEGIN:VEVENT
DTSTART;VALUE=DATE:20221029
DTEND;VALUE=DATE:20221030
RRULE:FREQ=YEARLY
DTSTAMP:20211203T193550Z
UID:8d5d58dc5f8fkdjdnfnf41c54ferrgp@google.com
CREATED:20211122T155625Z
DESCRIPTION:<p><strong>Gina bekannt als YourDirtyQueen</strong>&nbsp\;ist a
 uf&nbsp\;<a href="https://fanseven.com/?pid=5fecd970bf24ae00283a7317&amp\;g
 id=5fecd9f4faf0470027d6e326" id="ow320" __is_owner="true">Fanseven.com</a>&
 nbsp\;anzutreffen\, Sie ist ein abenteurlustiges\, verrücktes und experimen
 tierfreudiges AmateurGirl ihr Verlangen nach harter Dominanz bekommt man im
 mer wieder in zahlreichen Videos von ihr zusehen.<br></p><p><b>Fanseven Fee
 d:&nbsp\;<u><a href="https://fanseven.com/yourdirtyqueen?pid=5fecd970bf24ae
 00283a7317&amp\;gid=5fecd9f4faf0470027d6e326" id="ow324" __is_owner="true">
 Klick Hier</a></u></b></p><p><b>More Info:</b> <a href="https://happybirthd
 ay-girl.com/kalender/oktober/yourdirtyqueen/" id="ow337" __is_owner="true">
 https://happybirthday-girl.com/kalender/oktober/yourdirtyqueen/</a><br></p>
 <br><b>Beschenke dein Girl&nbsp\; hier: </b><u><a href="https://amzn.to/3pm
 rYI8" id="ow347" __is_owner="true">Amazon Wishlist</a></u><br><b><br><u></u
 ></b>
LAST-MODIFIED:20211203T193529Z
LOCATION:www.happybirthday-girl.com
SEQUENCE:20
STATUS:CONFIRMED
SUMMARY:YourDirtyQueen Geburtstag 🎂
TRANSP:TRANSPARENT
BEGIN:VALARM
ACTION:DISPLAY
DESCRIPTION:This is an event reminder
TRIGGER:-P0DT15H0M0S
END:VALARM
END:VEVENT
END:VCALENDAR
