BEGIN:VCALENDAR
PRODID:-//Google Inc//Google Calendar 70.9054//EN
VERSION:2.0
CALSCALE:GREGORIAN
METHOD:PUBLISH
X-WR-CALNAME:webmaster@happybirthday-girl.com
X-WR-TIMEZONE:Europe/Berlin
BEGIN:VEVENT
DTSTART;VALUE=DATE:20220701
DTEND;VALUE=DATE:20220702
RRULE:FREQ=YEARLY
DTSTAMP:20220501T203917Z
UID:ewjfoijeoffokvno848951114v9f84v94fdvfd@google.com
CREATED:20220102T213452Z
DESCRIPTION:<span><u></u><u></u><u></u><u></u><u></u><u></u><u></u><u></u><
 u></u><u></u><u></u><u></u><u></u><p>Sexy <strong>Transgirl NadineJohanna</
 strong> aus Österreich. Sie ist ein immer geiles <em><strong>TransGirl</str
 ong></em>\, und freut sich über jeden Kontakt. Zum Geburtstag lässt sich Na
 dineJohanna auch gern von einem heißem Boy beschenken.<br /></p><p><b>MyDir
 tyHobby + Bonus: </b><u><a href="https://happybirthday-girl.com/NadineJohan
 na-MyDirtyHobby"><u><u>Klick Hier</u></u></a></u><b><br /></b></p><p><b>Fan
 Seven Bilder &amp\; Videos: </b><u><a href="https://happybirthday-girl.com/
 NadineJohanna-FanSeven"><u>Klick Hier</u></a></u><b><br /></b></p><p><b>Vis
 itX Chat: </b><u><a href="https://happybirthday-girl.com/NadineJohanna-Visi
 tX">Klick Hier</a></u></p><p><b>More Info:</b> <a href="https://happybirthd
 ay-girl.com/kalender/juli/nadinejohanna/">https://happybirthday-girl.com/ka
 lender/juli/nadinejohanna/</a><br /></p><br /><b>Beschenke dein Girl  hier:
  </b><u><a href="https://amzn.to/3F6sod9">Amazon Wishlist</a></u><br /><b><
 br /><u></u></b><u></u><u></u><u></u><u></u><u></u><u></u><u></u><u></u><u>
 </u><u></u><u></u><u></u><u></u></span>
LAST-MODIFIED:20220501T203850Z
LOCATION:www.happybirthday-girl.com
SEQUENCE:47
STATUS:CONFIRMED
SUMMARY:NadineJohanna Geburtstag 🎂
TRANSP:TRANSPARENT
BEGIN:VALARM
ACTION:DISPLAY
DESCRIPTION:This is an event reminder
TRIGGER:-P0DT15H0M0S
END:VALARM
END:VEVENT
END:VCALENDAR
