BEGIN:VCALENDAR
PRODID:-//Google Inc//Google Calendar 70.9054//EN
VERSION:2.0
CALSCALE:GREGORIAN
METHOD:PUBLISH
X-WR-CALNAME:webmaster@hhappybirthday-girl.com
X-WR-TIMEZONE:Europe/Berlin
BEGIN:VEVENT
DTSTART;VALUE=DATE:20230317
DTEND;VALUE=DATE:20230318
RRULE:FREQ=YEARLY
DTSTAMP:20221127T103630Z
UID:7sjgfgdtrdztgujbkj8746187iouzersdcvjnmpoag@google.com
CREATED:20220906T200656Z
DESCRIPTION:<html-blob><u></u><u></u><p>&nbsp\; Eine <strong>norddeutsche F
 rohnatur wie KairaKampen</strong> weiß genau\, was Männer wirklich wollen u
 nd teilt dies gerne mit Dir du findest sie auf den heißen Plattformen von..
 ...<br></p><p><b>VisitX Chat:&nbsp\;</b><u><a href="https://happybirthday-g
 irl.com/kairakampen-visitx" id="ow353" __is_owner="true"><u>Klick Hier</u><
 /a>&nbsp\;--&gt\;<i>&nbsp\;</i></u><i>KOSTENLOS ANMELDEN &amp\; 10€ GUTHABE
 N GESCHENKT BEKOMMEN</i></p><p><b>LiveStrip Chat:&nbsp\;</b><u><a href="htt
 ps://happybirthday-girl.com/kairakampen-livestrip" id="ow372" __is_owner="t
 rue"><u><u>Klick Hier</u></u></a>&nbsp\;</u><i><br></i></p><p><i><br></i></
 p><p><b>More Info:</b>&nbsp\;<a href="https://happybirthday-girl.com/kairak
 ampen" id="ow402" __is_owner="true"><u>https://happybirthday-girl.com/kaira
 kampen</u></a></p><br><b>Beschenke dein Girl&nbsp\; hier:&nbsp\;</b><u><a h
 ref="https://happybirthday-girl.com/kairakampen" id="ow417" __is_owner="tru
 e"><u>No - DirtyWishlist</u></a></u><u></u><u></u></html-blob>
LAST-MODIFIED:20221127T103300Z
LOCATION:www.happybirthday-girl.com
SEQUENCE:6
STATUS:CONFIRMED
SUMMARY:KairaKampen Geburtstag 🎂
TRANSP:TRANSPARENT
END:VEVENT
END:VCALENDAR
