BEGIN:VCALENDAR
PRODID:-//Google Inc//Google Calendar 70.9054//EN
VERSION:2.0
CALSCALE:GREGORIAN
METHOD:PUBLISH
X-WR-CALNAME:webmaster@happybirthday-girl.com
X-WR-TIMEZONE:Europe/Berlin
BEGIN:VEVENT
DTSTART;VALUE=DATE:20230316
DTEND;VALUE=DATE:20230317
RRULE:FREQ=YEARLY
DTSTAMP:20230204T073248Z
UID:n82jggcdxewqewatzuioplmnbvcs8428ngftz@google.com
CREATED:20220906T200656Z
DESCRIPTION:<u></u><u></u><u></u><p>Heute sind Bonnieundclyde19 ein sexy Am
 ateur Couple aus Leipzig. Sie wollen euch gerne an ihrem Sexleben teilhaben
  lassen.  <br></p><p><b>Fanseven Bilder und Videos: </b><a href="https://ha
 ppybirthday-girl.com/bonnyundclyde19-fanseven">Klick Hier</a></p><p><b>More
  Info:</b> <a href="https://happybirthday-girl.com/bonnyundclyde"><u>https:
 //happybirthday-girl.com/bonnyundclyde</u></a></p><br><b>Beschenke dein Gir
 l  hier: </b><u><a href="https://happybirthday-girl.com/bonnyundclyde19-wis
 hlist"><u>DirtyWishlist</u></a></u><u></u><u></u><u></u>
LAST-MODIFIED:20230204T072909Z
LOCATION:www.happybirthday-girl.com
SEQUENCE:10
STATUS:CONFIRMED
SUMMARY:Sophia alias Bonny Geburtstag 🎂
TRANSP:TRANSPARENT
END:VEVENT
BEGIN:VEVENT
DTSTART;VALUE=DATE:20230717
DTEND;VALUE=DATE:20230718
RRULE:FREQ=YEARLY
DTSTAMP:20230204T073248Z
UID:72ewayxcvbnm,lkjhgfdwerfgbujk749685456@google.com
CREATED:20230204T073225Z
DESCRIPTION:<u></u><u></u><u></u><p>Heute sind Bonnieundclyde19 ein sexy Am
 ateur Couple aus Leipzig. Sie wollen euch gerne an ihrem Sexleben teilhaben
  lassen.  <br></p><p><b>Fanseven Bilder und Videos: </b><a href="https://ww
 w.google.com/url?q=https://happybirthday-girl.com/bonnyundclyde19-fanseven&
 amp\;sa=D&amp\;source=calendar&amp\;usd=2&amp\;usg=AOvVaw37Z7C--2uz15LvWaji
 uuYL" target="_blank">Klick Hier</a></p><p><b>More Info:</b> <a href="https
 ://www.google.com/url?q=https://happybirthday-girl.com/bonnyundclyde&amp\;s
 a=D&amp\;source=calendar&amp\;usd=2&amp\;usg=AOvVaw1eaixqA3hCea9JvPpkbiLE" 
 target="_blank"><u>https://happybirthday-girl.com/bonnyundclyde</u></a></p>
 <br><b>Beschenke dein Girl  hier: </b><u><a href="https://www.google.com/ur
 l?q=https://happybirthday-girl.com/bonnyundclyde19-wishlist&amp\;sa=D&amp\;
 source=calendar&amp\;usd=2&amp\;usg=AOvVaw0zL-8RCrp3e2CvjShNWqkg" target="_
 blank"><u>DirtyWishlist</u></a></u><u></u><u></u><u></u>
LAST-MODIFIED:20230204T073225Z
LOCATION:www.happybirthday-girl.com
SEQUENCE:0
STATUS:CONFIRMED
SUMMARY:Franz alias Clyde Geburtstag 🎂
TRANSP:TRANSPARENT
END:VEVENT
END:VCALENDAR
