BEGIN:VCALENDAR
PRODID:-//Google Inc//Google Calendar 70.9054//EN
VERSION:2.0
CALSCALE:GREGORIAN
METHOD:PUBLISH
X-WR-CALNAME:webmaster@happybirthday-girl.com
X-WR-TIMEZONE:Europe/Berlin
BEGIN:VEVENT
DTSTART;VALUE=DATE:20230331
DTEND;VALUE=DATE:20230401
RRULE:FREQ=YEARLY
DTSTAMP:20230213T183946Z
UID:n82owjjnsvdgfgfiqpqamcbgzei89ewr7f42d5e8r5@google.com
CREATED:20220906T200656Z
DESCRIPTION:<u></u><u></u><u></u><p>Das ist MickyMuffin\, ein super heißes 
 Girl aus Sachsen\, sie ist skinny\, jung und unglaublich kreativ was ihren 
 erotischen Content angeht.🎨 Ob du es glaubst oder nicht\, sie ist unglaubl
 ich versaut.😏 <br></p><p><span><b>FOLGE MICKYMUFFIN AUF MYDIRTYHOBBY</b></
 span><b>: </b><a href="https://happybirthday-girl.com/mickymuffin-mdh">Klic
 k Hier</a></p><p>REGISTRIERE DICH UND LÖSE 500 DIRTY COINS BEIM KAUF EIN<b>
 <br></b></p><p><b>More Info:</b> <a href="https://happybirthday-girl.com/mi
 ckymuffin"><u>https://happybirthday-girl.com/mickymuffin</u></a></p><br><b>
 Beschenke dein Girl  hier: </b><u><a href="https://happybirthday-girl.com/m
 ickymuffin-dirtywishlist"><u>DirtyWishlist</u></a></u><u></u><u></u><u></u>
LAST-MODIFIED:20230213T183856Z
LOCATION:www.happybirthday-girl.com
SEQUENCE:11
STATUS:CONFIRMED
SUMMARY:MickyMuffin Geburtstag 🎂
TRANSP:TRANSPARENT
END:VEVENT
END:VCALENDAR
