BEGIN:VCALENDAR
PRODID:-//Google Inc//Google Calendar 70.9054//EN
VERSION:2.0
CALSCALE:GREGORIAN
METHOD:PUBLISH
X-WR-CALNAME:webmaster@happybirthday-girl.com
X-WR-TIMEZONE:Europe/Berlin
BEGIN:VEVENT
DTSTART;VALUE=DATE:20231013
DTEND;VALUE=DATE:20231014
RRULE:FREQ=YEARLY
DTSTAMP:20230829T150310Z
UID:kjkjjbjhv434567hvgfgsbkjnkjn41597jhg@google.com
CREATED:20220906T200656Z
DESCRIPTION:<u></u><p>Weil heute am 13. Oktober dein Geburtstag ist…. 🎉Hap
 py Birthday To You…..🍾<br></p><p>Kennst du MissMarie? 🌟 Diese junge\, leb
 ensfrohe Mutter aus Deutschland hat im Camgirl-Universum für Furore gesorgt
 . 😊 Mit ihren neuesten Angeboten und Überraschungen hat sie viele begeiste
 rt. 🎁</p><p><br></p><p><span><b>Exklusiv bei FanSeven</b></span><b>: </b><
 a href="https://happybirthday-girl.com/missmarie-fanseven">MissMarie</a></p
 ><p><b>More Info:</b> <a href="https://happybirthday-girl.com/missmarie"><u
 >https://happybirthday-girl.com/missmarie</u></a></p><br><b>Beschenke dein 
 Girl  hier: </b><u><a href="https://happybirthday-girl.com/missmarie-dirtyw
 ishlist"><u>DirtyWishlist</u></a></u><u></u><u></u><u></u>
LAST-MODIFIED:20230828T161611Z
LOCATION:www.happybirthday-girl.com
SEQUENCE:17
STATUS:CONFIRMED
SUMMARY:MissMarie Geburtstag 🎂
TRANSP:TRANSPARENT
END:VEVENT
END:VCALENDAR
